BEGIN:VCALENDAR
VERSION:2.0
PRODID:-//Library Market//iCal Export//EN
BEGIN:VEVENT
SUMMARY:Emotional Regulation
UID:47210
DTSTAMP:20260421T212200Z
DTSTART:20260506T200000Z
DTEND:20260506T213000Z
LOCATION:Grande Prairie Public Library, 101, 9839 103 Avenue, Grande Prair
 ie AB T8V 6M7, Canada
ROOM: Rotary Training Room
DESCRIPTION:This course focuses on understanding emotions and learning pra
 ctical strategies to manage them in a healthy way. We explore how emotions
  show up in the body, how to name them, and ways to respond rather than re
 act.
URL:https://events.gppl.ca/index.php/event/recovery-college-47210
END:VEVENT
END:VCALENDAR
