BEGIN:VCALENDAR
VERSION:2.0
PRODID:-//Library Market//iCal Export//EN
BEGIN:VEVENT
SUMMARY:Learn CloudLibrary
UID:50401
DTSTAMP:20260420T203000Z
DTSTART:20260512T170000Z
DTEND:20260512T180000Z
LOCATION:Grande Prairie Public Library, 101, 9839 103 Avenue, Grande Prair
 ie AB T8V 6M7, Canada
ROOM: Rotary Training Room
DESCRIPTION:CloudLibrary is an online platform you can access eBooks and e
 Audiobooks with using your GPPL membership, similar to Libby. Learn more a
 bout how to navigate the website and the app, to best maximize your free r
 eading potential! Bring your device and library card with you.
URL:https://events.gppl.ca/index.php/event/learn-cloudlibrary-50401
END:VEVENT
END:VCALENDAR
