BEGIN:VCALENDAR
VERSION:2.0
PRODID:-//Library Market//iCal Export//EN
BEGIN:VEVENT
SUMMARY:Preschool STEAM: ages 4-6
UID:50440
DTSTAMP:20260422T063300Z
DTSTART:20260511T193000Z
DTEND:20260511T200000Z
LOCATION:Grande Prairie Public Library, 101, 9839 103 Avenue, Grande Prair
 ie AB T8V 6M7, Canada
ROOM: Linda Smith Story Room
DESCRIPTION:Get ready to explore in this weekly registered program for age
 s 4-6! We&#039;ll be covering different aspects of STEAM (science, technol
 ogy, engineering, art, math) at each session. Interested in previous acti
 vities? Check out STEAM Space on our website at https://www.gppl.ca/Event
 s-Contests/STEAM for previous activities, book recommendations, and sugges
 tions for further learning.Please register for each session your child wil
 l attend.
URL:https://events.gppl.ca/index.php/event/copy-preschool-steam-ages-4-6-5
 0440
END:VEVENT
END:VCALENDAR
