BEGIN:VCALENDAR
VERSION:2.0
PRODID:-//Library Market//iCal Export//EN
BEGIN:VEVENT
SUMMARY:Shades of Self-Disclosure
UID:47212
DTSTAMP:20260422T001800Z
DTSTART:20260520T200000Z
DTEND:20260520T213000Z
LOCATION:Grande Prairie Public Library, 101, 9839 103 Avenue, Grande Prair
 ie AB T8V 6M7, Canada
ROOM: Rotary Training Room
DESCRIPTION:This course looks at how, when, and why we share personal info
 rmation. It explores building trust, understanding boundaries, and finding
  a balance between openness and protecting our own well-being.
URL:https://events.gppl.ca/event/recovery-college-47212
END:VEVENT
END:VCALENDAR
