BEGIN:VCALENDAR
VERSION:2.0
PRODID:-//Library Market//iCal Export//EN
BEGIN:VEVENT
SUMMARY:Handmade Heat Pack
UID:47876
DTSTAMP:20260420T172400Z
DTSTART:20260511T170000Z
DTEND:20260511T200000Z
LOCATION:Grande Prairie Public Library, 101, 9839 103 Avenue, Grande Prair
 ie AB T8V 6M7, Canada
ROOM: Willie Janssen Discovery Room
DESCRIPTION:Create your own cozy comfort with this hands-on sewing worksho
 p! Participants will sew and fill their own therapeutic heat pack, perfect
  for soothing sore muscles and staying warm. Each heat pack will include a
  removable, washable cover for easy care and long-lasting use.All skill le
 vels are welcome, but basic sewing knowledge is recommended.Space is limit
 ed—please register online to reserve your spot.
URL:https://events.gppl.ca/event/monday-makers-47876
END:VEVENT
END:VCALENDAR
