BEGIN:VCALENDAR
VERSION:2.0
PRODID:-//Library Market//iCal Export//EN
BEGIN:VEVENT
SUMMARY:Odyssey House &quot;Emotions and Self Esteem&quot;
UID:49955
DTSTAMP:20260420T204500Z
DTSTART:20260511T220000Z
DTEND:20260511T230000Z
LOCATION:Grande Prairie Public Library, 101, 9839 103 Avenue, Grande Prair
 ie AB T8V 6M7, Canada
ROOM: Willie Janssen Discovery Room
DESCRIPTION:This free, one-hour presentation is designed to help kids unde
 rstand and express their emotions while strengthening self-regulation and 
 problem-solving skills. We will explore healthy boundaries and consent, pr
 actice self-reflection, and learn how positive affirmations can support co
 nfidence and self-esteem.  Topics covered include:EmotionsSelf Regulatio
 nBoundaries and ConsentSelf ReflectionProblem-Solving Affirmation Presen
 ted by Sam Romkes with Odyssey House
URL:https://events.gppl.ca/event/odyssey-house-emotions-and-self-esteem-49
 955
END:VEVENT
END:VCALENDAR
