BEGIN:VCALENDAR
VERSION:2.0
PRODID:-//Library Market//iCal Export//EN
BEGIN:VEVENT
SUMMARY:Odyssey House &quot;Healthy Relationships&quot;
UID:49957
DTSTAMP:20260420T165200Z
DTSTART:20260512T220000Z
DTEND:20260512T230000Z
LOCATION:Grande Prairie Public Library, 101, 9839 103 Avenue, Grande Prair
 ie AB T8V 6M7, Canada
ROOM: Willie Janssen Discovery Room
DESCRIPTION:This free, one-hour presentation is designed to help teens be 
 introduced to safe dating and helps them understand what abuse is and how 
 it can appear in relationships. We explore healthy relationships, peer pre
 ssure, boundaries and consent, as well as tech safety and recognizing onli
 ne abuse.  Topics covered include:Intro to safe datingWhat is AbuseHealt
 hy RelationshipsPeer Pressure in RelationshipsBoundaries and ConsentTech s
 afety and online abuse Presented by Sam Romkes with Odyssey House
URL:https://events.gppl.ca/event/odyssey-house-healthy-relationships-49957
END:VEVENT
END:VCALENDAR
