BEGIN:VCALENDAR
VERSION:2.0
PRODID:-//Library Market//iCal Export//EN
BEGIN:VEVENT
SUMMARY:Exam Proctoring
UID:50328
DTSTAMP:20260420T222800Z
DTSTART:20260521T160000Z
DTEND:20260521T190000Z
LOCATION:Grande Prairie Public Library, 101, 9839 103 Avenue, Grande Prair
 ie AB T8V 6M7, Canada
ROOM: Testing Centre
DESCRIPTION:Please contact us at exams@gppl.ca to book your exam at GPPL. 
 Please note that CAEC exams must be booked through the CAEC site instead.I
 nformation on exams can be found here: https://www.gppl.ca/Using-the-Libra
 ry2/Services/Book-an-Exam 
URL:https://events.gppl.ca/event/exam-proctoring-50328
END:VEVENT
END:VCALENDAR
