BEGIN:VCALENDAR
VERSION:2.0
PRODID:-//Library Market//iCal Export//EN
BEGIN:VEVENT
SUMMARY:Odyssey House &quot;Bullying and Healthy Relationships&quot;
UID:50375
DTSTAMP:20260420T204500Z
DTSTART:20260513T220000Z
DTEND:20260513T230000Z
LOCATION:Grande Prairie Public Library, 101, 9839 103 Avenue, Grande Prair
 ie AB T8V 6M7, Canada
ROOM: Willie Janssen Discovery Room
DESCRIPTION:This free, one-hour presentation is designed to help kids unde
 rstand the difference between bullying and conflict, recognize different t
 ypes of bullying, and identify warning signs. They will also learn about h
 ealthy boundaries and consent, along with practical steps they can take if
  they or someone they know is experiencing bullying.  Topics covered inc
 lude: What is Bullying &amp; Conflict Types of Bullying Warning Signs 
 Healthy Boundaries &amp; Consent &quot;What to do&quot; Presented by Sam
  Romkes with Odyssey House 
URL:https://events.gppl.ca/event/odyssey-house-bullying-and-healthy-relati
 onships-50375
END:VEVENT
END:VCALENDAR
