BEGIN:VCALENDAR
VERSION:2.0
PRODID:-//Library Market//iCal Export//EN
BEGIN:VEVENT
SUMMARY:Earth Day - Scrap Crafts
UID:50383
DTSTAMP:20260419T182400Z
DTSTART:20260424T163000Z
DTEND:20260424T171500Z
LOCATION:Grande Prairie Public Library, 101, 9839 103 Avenue, Grande Prair
 ie AB T8V 6M7, Canada
ROOM: Willie Janssen Discovery Room
DESCRIPTION:Celebrate Earth Day and create your own scrap art using recycl
 ed materials. We will be using recycled, scrap materials from previous pr
 ograms! Follow along or create your very own piece of art! Drop in for age
 s 4 to 12 located in the Willie Janssen Discovery Room.
URL:https://events.gppl.ca/event/earth-day-scrap-crafts-50383
END:VEVENT
END:VCALENDAR
