BEGIN:VCALENDAR
VERSION:2.0
PRODID:-//Library Market//iCal Export//EN
BEGIN:VEVENT
SUMMARY:Menopause Café
UID:50418
DTSTAMP:20260420T224600Z
DTSTART:20260613T200000Z
DTEND:20260613T220000Z
LOCATION:Grande Prairie Public Library, 101, 9839 103 Avenue, Grande Prair
 ie AB T8V 6M7, Canada
ROOM: Rotary Community Room
DESCRIPTION:Join us for a welcoming Menopause Café — a free, informal g
 athering where you can enjoy coffee and tea while connect with others and 
 talk openly about perimenopause and menopause in a relaxed, judgment-free 
 space. This session is hosted by Dr. Nadine Murigu, a UK-trained family p
 hysician, Canadian CCFP, and British Menopause Society–trained menopause
  specialist. Dr. Murigu will help guide conversation, share evidence-based
  information, and answer general questions in a supportive environment.Par
 ticipants are also invited to continue the conversation through Dr. Nadine
 ’s free online forum at herhealthanswers.com.
URL:https://events.gppl.ca/event/menopause-cafe-50418
END:VEVENT
END:VCALENDAR
